BEGIN:VCALENDAR
VERSION:2.0
PRODID:-//Medio Ambiente Las Palmas - ECPv4.6.6//NONSGML v1.0//EN
CALSCALE:GREGORIAN
METHOD:PUBLISH
X-WR-CALNAME:Medio Ambiente Las Palmas
X-ORIGINAL-URL:https://lpgcsostenible.laspalmasgc.es
X-WR-CALDESC:Events for Medio Ambiente Las Palmas
BEGIN:VEVENT
DTSTART;TZID=UTC+1:20260519T153000
DTEND;TZID=UTC+1:20260519T193000
DTSTAMP:20260420T173459
CREATED:20260413T082141Z
LAST-MODIFIED:20260413T082141Z
UID:13925-1779204600-1779219000@lpgcsostenible.laspalmasgc.es
SUMMARY:Huertos en tu hogar - sesión 3
DESCRIPTION: \n
URL:https://lpgcsostenible.laspalmasgc.es/evento/huertos-en-tu-hogar-sesion-3/
END:VEVENT
END:VCALENDAR